BEGIN:VCALENDAR
VERSION:2.0
PRODID:-//TFA - ECPv5.16.4//NONSGML v1.0//EN
CALSCALE:GREGORIAN
METHOD:PUBLISH
X-WR-CALNAME:TFA
X-ORIGINAL-URL:https://thaifintech.org
X-WR-CALDESC:Events for TFA
REFRESH-INTERVAL;VALUE=DURATION:PT1H
X-Robots-Tag:noindex
X-PUBLISHED-TTL:PT1H
BEGIN:VTIMEZONE
TZID:Asia/Krasnoyarsk
BEGIN:STANDARD
TZOFFSETFROM:+0700
TZOFFSETTO:+0700
TZNAME:+07
DTSTART:20240101T000000
END:STANDARD
END:VTIMEZONE
BEGIN:VEVENT
DTSTART;VALUE=DATE:20240422
DTEND;VALUE=DATE:20240427
DTSTAMP:20260425T215016
CREATED:20240318T021333Z
LAST-MODIFIED:20240318T021310Z
UID:11598-1713744000-1714175999@thaifintech.org
SUMMARY:CATAPULT Inclusion Southeast Asia - 2024 program
DESCRIPTION:Event Information\nAre you a start-up fostering access to finance in Southeast Asia and would like to:\n– Boost growth and your financial inclusion mission?\n\n\n– Take part of the must-attend Money 20/20 Asia Summit?\n\n\n– Showcase your digital solution to top experts in Inclusive Finance and Fintech?\n\n\n\n– Establish strategic links with investors\, entrepreneurs\, and many others? \n\n\n\n\nAPPLY NOW to win a seat in the CATAPULT Inclusion Southeast Asia – 2024 program – deadline: 12 March 2024. \n\n\n\nImplemented by the Luxembourg House of Finance Technology (LHoFT) and sponsored by the Directorate for Development Cooperation and Humanitarian Affairs (Luxembourg’s Ministry of Foreign Affairs)\, this unique fintech acceleration program offers a dynamic two-week bootcamp:\n\n\n22 – 26 April\, 2024 @BANGKOK\n\n\n24 – 28 June\, 2024 @LUXEMBOURG.\n\n\nUp to 15 fintechs will be selected from the applications to join the 1st week in Thailand and present their pitch on the last day;\n\n\n10 fintechs will be shortlisted to join the 2nd week in Luxembourg.\n\n\nTravel and accommodation expenses will be covered by the program\n\nMore Information
URL:https://thaifintech.org/event/catapult-inclusion-southeast-asia-2024-program/
ATTACH;FMTTYPE=image/jpeg:https://thaifintech.org/wp-content/uploads/2024/03/AW-PR2-LHoFT_Catapult.jpg
END:VEVENT
BEGIN:VEVENT
DTSTART;VALUE=DATE:20240423
DTEND;VALUE=DATE:20240426
DTSTAMP:20260425T215016
CREATED:20240318T021141Z
LAST-MODIFIED:20240318T021106Z
UID:11588-1713830400-1714089599@thaifintech.org
SUMMARY:Money20/20 Asia
DESCRIPTION:Event InformationMoney’s big event\, Money20/20 Asia\, is taking place in Bangkok from 23 – 25 April 2024. Unlock new partnerships\, supercharge your deal making and forge connections with 3000+ fintech decision-makers from APAC and beyond. \nHere’s what you can expect at Money20/20 Asia: \n/ BIGGEST power players like J.P. Morgan\, Mastercard\, PayPal\, Ripple\, Stripe\, Google Cloud\, DANA\, Afterpay\, HSBC\, Hong Kong Monetary Authority\, DBS\, Krungsri Bank\, Swift\, Bank Islam\, Netflix\, Deutsche Bank\, and Rizal Commercial Banking Corporation are all signed up and ready to do business with you. \n/ BIGGEST wow-moments to connect with 3000+ attendees! Reach decision makers through the Money20/20 Connect App\, make epic memories at two Industry Nights\, hold crucial meetings at the Connections Lounge\, and explore the Money Hall for new partnerships with 200+ exhibitors and sponsors. \n/ BIGGEST experts on stage across 20 countries\, featuring over 25 banks and 30 of APAC’s largest payment companies. Speakers include Masakazu Osawa from MUFG\, Yat Siu from Animoca Brands\, Ray Harishankar from IBM\, Sean Ringsted from Chubb\, Sridhar Sidhu from Wells Fargo… we could go on and on – see our agenda now! \n  \nBuy a pass
URL:https://thaifintech.org/event/money20-20-asia/
LOCATION:Queen Sirikit National Convention Center\, Thailand
ATTACH;FMTTYPE=image/png:https://thaifintech.org/wp-content/uploads/2024/03/TFA-website-post.png
END:VEVENT
END:VCALENDAR