BEGIN:VCALENDAR
VERSION:2.0
PRODID:-//TFA - ECPv5.16.4//NONSGML v1.0//EN
CALSCALE:GREGORIAN
METHOD:PUBLISH
X-WR-CALNAME:TFA
X-ORIGINAL-URL:https://thaifintech.org
X-WR-CALDESC:Events for TFA
REFRESH-INTERVAL;VALUE=DURATION:PT1H
X-Robots-Tag:noindex
X-PUBLISHED-TTL:PT1H
BEGIN:VTIMEZONE
TZID:Asia/Krasnoyarsk
BEGIN:STANDARD
TZOFFSETFROM:+0700
TZOFFSETTO:+0700
TZNAME:+07
DTSTART:20240101T000000
END:STANDARD
END:VTIMEZONE
BEGIN:VEVENT
DTSTART;TZID=Asia/Krasnoyarsk:20241030T173000
DTEND;TZID=Asia/Krasnoyarsk:20241030T203000
DTSTAMP:20260425T051150
CREATED:20240925T085209Z
LAST-MODIFIED:20240925T085209Z
UID:11840-1730309400-1730320200@thaifintech.org
SUMMARY:Data Tech Trends & Predictions for 2025 
DESCRIPTION:Event InformationData Tech Trends & Predictions for 2025  \nCalling all Bangkok Tech Visionaries! OceanBase\, in partnership with CDOTrends and the Thailand Fintech Association\, invites you to the OceanBase Tech Social that’s anything but ordinary. \nForget the buzzwords. This event is where GenAI meets real-world impact while we discuss the future of data tech and reveal the secrets of multi-model databases. Fuel your brain (and your conversations) with delicious canapes and drinks. Get hands-on with cutting-edge data tech\, grill our experts in an “Ask Me Anything” session\, and connect with fellow innovators. \nWalk away with a Certificate of Participation\, a surprise gift\, and a goodie bag that’ll make your colleagues jealous! \n\n\n\nDate:\nWednesday\, 30 October 2024\n\n\nTime:\n5:30 – 8:30 PM\n\n\nVenue:\nThe Great Room\, Gaysorn Tower\, Bangkok (BTS Chit Lom)\n\n\nGoogle Maps:\nThe Great Room Gaysorn Tower | Coworking\, Hot Desk & Meeting Spaces\n\n\n\nSpeakers \n\n\n\n\nPawat Assavapayukul\nDirector of Sales for Thailand\nOceanBase\n\n \nTed Bai\nHead of Solution Architecture for International Business\nOceanBase \n\n\n\nWinston Thomas\nEditor-in-Chief\nCDOTrends\, HR&DigitalTrends and DataOpsTrends\n\n\n\nThis isn’t just an event; it’s an experience. Don’t miss out! RSVP here or contact Usha G. \nRSVP here
URL:https://thaifintech.org/event/data-tech-trends-predictions-for-2025/
LOCATION:The Great Room\, Gaysorn Tower\, Bangkok (BTS Chit Lom)\, Thailand
ATTACH;FMTTYPE=image/jpeg:https://thaifintech.org/wp-content/uploads/2024/09/oceanbase_30oct2025_th_web_banner_v1r3-1.jpg
END:VEVENT
END:VCALENDAR