BEGIN:VCALENDAR
VERSION:2.0
PRODID:-//TFA - ECPv5.16.4//NONSGML v1.0//EN
CALSCALE:GREGORIAN
METHOD:PUBLISH
X-WR-CALNAME:TFA
X-ORIGINAL-URL:https://thaifintech.org
X-WR-CALDESC:Events for TFA
REFRESH-INTERVAL;VALUE=DURATION:PT1H
X-Robots-Tag:noindex
X-PUBLISHED-TTL:PT1H
BEGIN:VTIMEZONE
TZID:Asia/Shanghai
BEGIN:STANDARD
TZOFFSETFROM:+0800
TZOFFSETTO:+0800
TZNAME:CST
DTSTART:20240101T000000
END:STANDARD
END:VTIMEZONE
BEGIN:VEVENT
DTSTART;TZID=Asia/Shanghai:20241106T123000
DTEND;TZID=Asia/Shanghai:20241108T140000
DTSTAMP:20260425T051226
CREATED:20241005T055501Z
LAST-MODIFIED:20241005T055731Z
UID:11860-1730896200-1731074400@thaifintech.org
SUMMARY:SFF MeetUp 2024
DESCRIPTION:Event Information🚀 SFF MeetUp – Unlock Your 2025 Goals 🚀\nDon’t Miss Asia’s Largest FinTech Meetings Programme! \nJoin SFF MeetUp to experience the power of 20\,000+ 1-on-1 prescheduled meetings with executives\, entrepreneurs\, and investors. Accelerate your business development\, form strategic partnerships\, and gain insights into the future of FinTech. \n\n🗓 When:\n6-8 November 2024 \n📍 Where:\nSingapore FinTech Festival\, Dedicated Meetup Area \n\nWhat to Expect:\n\nEfficient 20-Minute 1-on-1 Meetings: Meet up to 25 high-quality leads in a short time.\nDouble Opt-In System: Ensures every meeting is productive—both parties agree to meet.\nPowered by Cutting-Edge Technology: The same platform that powers over 150\,000 meetings globally.\nDedicated Meeting Area: Space for up to 1\,600 attendees\, with 800 tables\, equivalent to a football field!\nStrategic Partnerships: Network with key decision-makers\, potential partners\, and investors from 150+ countries.\n\nWho Should Attend:\n\nBusiness leaders looking to expand their global footprint.\nCompanies aiming to fill their sales pipeline with high-quality leads.\nProfessionals seeking to stay ahead of FinTech innovations and forge partnerships for business growth.\n\n\n⏳ Why Attend?\nThe SFF MeetUp offers you an unparalleled platform to achieve in 3 days what might normally take months to accomplish: \n\nDrive business development\nAccelerate deal flow\nForge partnerships\nStay ahead of industry innovation\n\n\n📝 Register Now! \nhttps://bit.ly/SFFCPTFA  (Delegate Pass) / https://bit.ly/SFFCPTFATV (Trade Visitor Pass)\nComplete your profile by 10 Oct to participate and unlock exclusive access. \n\nFor more details\, visit the official SFF MeetUp Program Guidelines. \nRSVP here
URL:https://thaifintech.org/event/https-www-fintechfestival-sg-sff-meetup/
LOCATION:Singapore FinTech Festival\, Singapore
ATTACH;FMTTYPE=image/jpeg:https://thaifintech.org/wp-content/uploads/2024/10/Image-5-10-2567-BE-at-12.57.jpeg
END:VEVENT
END:VCALENDAR