BEGIN:VCALENDAR
VERSION:2.0
PRODID:-//TFA - ECPv5.16.4//NONSGML v1.0//EN
CALSCALE:GREGORIAN
METHOD:PUBLISH
X-ORIGINAL-URL:https://thaifintech.org
X-WR-CALDESC:Events for TFA
REFRESH-INTERVAL;VALUE=DURATION:PT1H
X-Robots-Tag:noindex
X-PUBLISHED-TTL:PT1H
BEGIN:VTIMEZONE
TZID:Asia/Krasnoyarsk
BEGIN:STANDARD
TZOFFSETFROM:+0700
TZOFFSETTO:+0700
TZNAME:+07
DTSTART:20250101T000000
END:STANDARD
END:VTIMEZONE
BEGIN:VEVENT
DTSTART;VALUE=DATE:20250407
DTEND;VALUE=DATE:20250410
DTSTAMP:20260424T204127
CREATED:20250228T044550Z
LAST-MODIFIED:20250228T101011Z
UID:11943-1743984000-1744243199@thaifintech.org
SUMMARY:AIM Congress 2025
DESCRIPTION:Event InformationAIM Congress \nAIM Congress is a premier global event that brings together investors\, business leaders\, policymakers\, and experts to explore new investment opportunities and discuss key economic trends. The congress will focus on themes such as sustainable investment\, innovation\, and emerging markets\, providing a dynamic platform for networking\, collaboration\, and knowledge sharing. AIM Congress aims to shape the future of global investments\, foster strategic partnerships\, and drive growth across industries worldwide. The event will take place in Abu Dhabi\, United Arab Emirates\, from April 7 – 9\, 2025. \nwww.aimcongress.com
URL:https://thaifintech.org/event/aim-congress-2025/
LOCATION:United Arab Emirates
ATTACH;FMTTYPE=image/jpeg:https://thaifintech.org/wp-content/uploads/2025/02/Website-banner-scaled.jpg
END:VEVENT
END:VCALENDAR