BEGIN:VCALENDAR
VERSION:2.0
PRODID:-//TFA - ECPv5.16.4//NONSGML v1.0//EN
CALSCALE:GREGORIAN
METHOD:PUBLISH
X-WR-CALNAME:TFA
X-ORIGINAL-URL:https://thaifintech.org
X-WR-CALDESC:Events for TFA
REFRESH-INTERVAL;VALUE=DURATION:PT1H
X-Robots-Tag:noindex
X-PUBLISHED-TTL:PT1H
BEGIN:VTIMEZONE
TZID:Asia/Krasnoyarsk
BEGIN:STANDARD
TZOFFSETFROM:+0700
TZOFFSETTO:+0700
TZNAME:+07
DTSTART:20220101T000000
END:STANDARD
END:VTIMEZONE
BEGIN:VEVENT
DTSTART;TZID=Asia/Krasnoyarsk:20240325T100000
DTEND;TZID=Asia/Krasnoyarsk:20240325T133000
DTSTAMP:20260425T185728
CREATED:20240318T021428Z
LAST-MODIFIED:20240318T021608Z
UID:11579-1711360800-1711373400@thaifintech.org
SUMMARY:Web 3.0 and Cybersecurity Event
DESCRIPTION:Event InformationWeb3 and Cybersecurity จัดโดยสำนักงานคณะกรรมการการรักษาความมั่นคงปลอดภัยไซเบอร์แห่งชาติ (National Cyber Security Agency\, NCSA) ร่วมกับสมาคมฟินเทคประเทศไทย (Thai Fintech Association) และบริษัท Hellfire Security\n\nในวันที่ 25 มีนาคม เวลา 10:00 – 14:00 น. ที่ SCBX Next Tech – Siam Paragon ชั้น 4\n\nอย่าลืม! นำอุปกรณ์/ โน๊ตบุ๊คมาร่วมสร้างประสบการณ์ในการพัฒนา web3 และเรียนรู้วิธีรับมือและสร้างความปลอดภัยทางไซเบอร์ไปพร้อมกันที่นี่\n\nภายในงาน ทุกคนจะได้พบกับ พลอากาศตรี อมร ชมเชย รองเลขาธิการ NCSA\, คุณ Gregory Pickett (ผู้ก่อตั้งและหัวหน้าฝ่าย Cybersecurity Operations จาก Hellfire Security)\, คุณชาญ อริยะกุล (หัวหน้าฝ่าย Enterprise Business จาก Google Cloud ประเทศไทย)\, และคุณจิรายุส ทรัพย์ศรีโสภา (ผู้ก่อตั้งและประธานกรรมการบริษัท Bitkub และอุปนายกสมาคมฟินเทคประเทศไทย) และอีกมากมาย\n\n***งานบรรยายเป็นทั้งภาษาไทยและภาษาอังกฤษ***\n\nอุปกรณ์ที่จะนำมาเข้าร่วมกิจกรรมภายในงานควรมีรายละเอียดและสเปคเครื่องไม่ต่ำกว่าที่กำหนด:\n– Ram ไม่ต่ำกว่า 2GB (แนะนำให้เป็น 4 GB ขึ้นไป)\n– มีพื้นที่ hard disk ว่างอย่างน้อย 20 GB\n– CPU ขั้นต่ำ 32 หรือ 64 bit (single core) ความเร็วในการประมวลผล 2 GHz หรือมากกว่า\n\nสำหรับผู้ที่สนใจ สามารถลงทะเบียนฟรีได้แล้วที่\nhttps://bit.ly/Web3andCybersecurity\n\nแถมเสื้อฟรี! สำหรับผู้ลงทะเบียน 50 คนแรกเท่านั้น\n\nRegister Here
URL:https://thaifintech.org/event/web-3-0-and-cybersecurity-event/
LOCATION:SCBX Next Tech\, Siam Paragon\, 4th Floor\, Thailand
ATTACH;FMTTYPE=image/png:https://thaifintech.org/wp-content/uploads/2024/03/Web3.0-and-Cybersecurity-Banner.png
END:VEVENT
BEGIN:VEVENT
DTSTART;VALUE=DATE:20240304
DTEND;VALUE=DATE:20240309
DTSTAMP:20260425T185728
CREATED:20240315T091512Z
LAST-MODIFIED:20240315T091619Z
UID:11592-1709510400-1709942399@thaifintech.org
SUMMARY:Japan Fintech Festival 2024
DESCRIPTION:Event InformationWe are thrilled to announce that Thai FinTech Association (TFA) is a proud community partner of the Japan FinTech Festival 2024\, from March 4th to March 8th.\n\nElevandi is leading a program at Japan Fintech Week\, organized by Financial Services Agency Japan (JFSA) and the Bank of Japan\, bringing a diverse and comprehensive global dialogue on use of technology across all financial service asset classes for the first time to Tokyo.\n\nThe program comprises of carefully selected relevant finance and tech panel subjects\, keynote topics\, deep dives roundtables and post-event networking opportunities\, which includes a Global Leaders Dialogue\, Digital Asset Summit\, Founders Day\, Strategic Industry Roundtables\, and other associated programs.\n\nDon’t miss out on this unique opportunity to participate in comprehensive dialogues on various aspects of the future growth of financial services.\n\nLocation: Kanda Myojin Shrine\nProgram: https://www.linkedin.com/company/japan-fintech-festival/\nPlatform: The Japan Fintech Week\, hosted by the Bank of Japan and JFSA.\nNo of Global Speakers: 200+\nNo of Sessions: 100+\nMore Information
URL:https://thaifintech.org/event/japan-fintech-festival-2024/
LOCATION:Kanda Myojin Shrine
ATTACH;FMTTYPE=image/png:https://thaifintech.org/wp-content/uploads/2024/03/jff24_tfa_1024x585-1.png
END:VEVENT
BEGIN:VEVENT
DTSTART;TZID=Asia/Krasnoyarsk:20220908T133000
DTEND;TZID=Asia/Krasnoyarsk:20220909T163000
DTSTAMP:20260425T185728
CREATED:20220907T035155Z
LAST-MODIFIED:20230911T082356Z
UID:10818-1662643800-1662741000@thaifintech.org
SUMMARY:World Fintech Festival Thailand
DESCRIPTION:EventsUpcoming EventsWFF Thailand - Sept 8World Fintech Festival ThailandRegister hereBanking for Businesses: A Spotlight on SMEs\n\nThursday\, 8 September 2022\, 2PM – 4.30PM GMT+7 (ICT)\nVenue – UOB Plaza Bangkok\, 690 Sukhumvit Road\, Khlong Tan\, Khlong Toei\,\nBangkok 10110\n\nElevandi is set up by the Monetary Authority of Singapore\, the organisers of the Singapore FinTech Festival. World FinTech Festival (WFF) is the global brand of the Singapore FinTech Festival organised in collaboration with a global network of trusted partners\, featuring local market showcases\, sector deep-dives and networking opportunities in the lead-up to and during the SFF. \nThey will be running the World FinTech Festival Thailand in Bangkok on Sept 8. The session will explore how SMEs can accelerate digitalisation and sustainability efforts to thrive in an uncertain business environment. The in-person\, invite-only session will convene an intimate group of 40-50 senior SMEs and FinTech leaders. \nAgenda as attached \nRSVP here https://airtable.com/shrIZ5Qx7XWldsXZC \nFor more information\, please visit https://www.fintechfestival.sg/events/world-fintech-festival-thailand-banking-for-businesses-a-spotlight-on-smes-in-partnership-with-uob/
URL:https://thaifintech.org/event/10818/
LOCATION:Queen Sirikit National Convention Center\, Thailand
END:VEVENT
END:VCALENDAR