BEGIN:VCALENDAR
VERSION:2.0
PRODID:-//TFA - ECPv5.16.4//NONSGML v1.0//EN
CALSCALE:GREGORIAN
METHOD:PUBLISH
X-WR-CALNAME:TFA
X-ORIGINAL-URL:https://thaifintech.org
X-WR-CALDESC:Events for TFA
REFRESH-INTERVAL;VALUE=DURATION:PT1H
X-Robots-Tag:noindex
X-PUBLISHED-TTL:PT1H
BEGIN:VTIMEZONE
TZID:Asia/Krasnoyarsk
BEGIN:STANDARD
TZOFFSETFROM:+0700
TZOFFSETTO:+0700
TZNAME:+07
DTSTART:20250101T000000
END:STANDARD
END:VTIMEZONE
BEGIN:VEVENT
DTSTART;VALUE=DATE:20250422
DTEND;VALUE=DATE:20250425
DTSTAMP:20260424T220914
CREATED:20241115T050237Z
LAST-MODIFIED:20241115T050237Z
UID:11896-1745280000-1745539199@thaifintech.org
SUMMARY:Money20/20 Asia
DESCRIPTION:Event InformationMoney20/20\, the world’s leading fintech show\, has announced that over 50 speakers have already been confirmed to take the stage at Money20/20 Asia 2025\, which returns for its second edition from 22 to 24 April 2025 at the Queen Sirikit National Convention Center in Bangkok\, Thailand.  \nMore than 3\,000 people from 85+ countries attended in 2024\, and next year’s show promises to be bigger and better\, with 36 leading names like OpenPayd\, Terrapay\, Thunes\, Chubb\, Trulioo\, and Nium already signed up as show sponsors. \nMoney20/20 Asia’s show focus – Empowering Humanity Through Collaboration: Pioneering Secure\, Frictionless\, and Sustainable Fintech Innovation in Asia – explores the future of finance and sustainable and collaborative fintech innovation\, featuring four innovative stages and speakers from 22 countries (including 15 APAC markets). \nAttendees can expect more than 50 hours of content over the three show days\, representing 19 fintech verticals such as banking\, payments\, lending\, digital wallets\, blockchain and distributed ledgers\, cybersecurity\, data and analytics\, and cloud services. \nSome keynote speakers already announced include Lucy Liu\, Co-Founder & President of Airwallex\, whose solutions and partnerships helps over 100\,000 businesses across 50 countries save up to 90% on international payment fees; Martha Sazon\, President & CEO of GCash (Mynt)\, Philippines’ biggest mobile wallet with more than 85 million users and over USD110 billion in transactions in 2022; and Hans Patuwo\, Chief Operating Officer of GoTo Group\, Indonesia’s largest tech ecosystem serving a population of over 270 million with e-commerce\, digital payments\, and on-demand services. \nMoney20/20 Asia 2025 also brings together a diverse lineup from global and regional banks like Deutsche Bank\, Aeon Bank\, Maya Bank\, RCBC Philippines\, and J.P. Morgan. Experts from key players in the global and Asian payment sector\, such as Unlimit\, Razorpay\, Nepal Clearing House\, DCS Innov\, and Durianpay will also share their insights. The show is further enriched by regulatory leaders such as the Bank of Thailand and Bank Negara Malaysia. \n“Home to the largest emerging markets\, all eyes are on Asia which has been identified to be the largest financial ecosystem in the world by 2030. In 2025\, Money20/20 Asia continues to evolve\, bringing together top minds in banking and fintech. We’re proud to showcase both legacy and digital banks\, with a focus on Asia’s domestic institutions. This year’s show features more senior leadership\, including Mrs. Roong Mallikamas of the Bank of Thailand and Martha Sazon of GCash\, sharing insights on the Asian financial landscape\,” said Ian Fong\, Money20/20’s Asia Content Director. \nGet your early bird pass at this link and save USD800 before ticket prices increase after 22 November\, and because we’re a association partner\, you can enjoy an extra USD200 off a Standard Pass with the code <contact: contact@thaifintech.org for the code>. \nAn overview of Money20/20 Asia 2025 speakers already announced can be found here\, and will be updated until the show starts. See the Money20/20 Asia 2025 agenda at-a-glance here. \nBuy a pass
URL:https://thaifintech.org/event/money20-20-asia-2/
LOCATION:Queen Sirikit National Convention Center\, Thailand
ATTACH;FMTTYPE=image/png:https://thaifintech.org/wp-content/uploads/2024/11/240906_ASIA_MKTG_Thai-HQ-Pass_TH_1x1.png
END:VEVENT
END:VCALENDAR